BEGIN:VCALENDAR
VERSION:2.0
PRODID:-//impactcommunities.org//NONSGML kigkonsult.se iCalcreator 2.30.10/
 /
CALSCALE:GREGORIAN
METHOD:PUBLISH
UID:bf1a5668-aaf1-4638-a23d-0883d7c50c91
X-WR-CALDESC:
X-WR-RELCALID:896b364c72897a563ba25ab4bbb3e4ca
X-WR-TIMEZONE:America/Chicago
BEGIN:VTIMEZONE
TZID:America/Chicago
BEGIN:STANDARD
TZNAME:CST
DTSTART:20251102T020000
TZOFFSETFROM:-0500
TZOFFSETTO:-0600
RDATE:20261101T020000
RDATE:20271107T020000
END:STANDARD
BEGIN:DAYLIGHT
TZNAME:CDT
DTSTART:20260308T020000
TZOFFSETFROM:-0600
TZOFFSETTO:-0500
RDATE:20270314T020000
END:DAYLIGHT
END:VTIMEZONE
BEGIN:VEVENT
UID:55db1438-bd00-4d53-b969-14dce3da9fb9
DTSTAMP:20260420T093026Z
DESCRIPTION:
DTSTART;TZID=America/Chicago:20260820T100000
DTEND;TZID=America/Chicago:20260820T113000
LOCATION:Corsicana and Navarro County Chamber of Commerce
SUMMARY:Navarro County Coalition Meeting
END:VEVENT
END:VCALENDAR
