BEGIN:VCALENDAR
VERSION:2.0
PRODID:-//impactcommunities.org//NONSGML kigkonsult.se iCalcreator 2.30.10/
 /
CALSCALE:GREGORIAN
METHOD:PUBLISH
UID:11572165-888a-40b0-b46d-cd3fc1db6cf2
X-WR-CALDESC:Hybrid Meeting
X-WR-RELCALID:1c3e59de74cdb693cf9c294cf6de9cbf
X-WR-TIMEZONE:America/Chicago
BEGIN:VTIMEZONE
TZID:America/Chicago
BEGIN:STANDARD
TZNAME:CST
DTSTART:20251102T020000
TZOFFSETFROM:-0500
TZOFFSETTO:-0600
RDATE:20261101T020000
RDATE:20271107T020000
END:STANDARD
BEGIN:DAYLIGHT
TZNAME:CDT
DTSTART:20260308T020000
TZOFFSETFROM:-0600
TZOFFSETTO:-0500
RDATE:20270314T020000
END:DAYLIGHT
END:VTIMEZONE
BEGIN:VEVENT
UID:079bbb14-64b9-494a-a6d3-4d3129bfb1ec
DTSTAMP:20260420T080449Z
DESCRIPTION:Hybrid Meeting
DTSTART;TZID=America/Chicago:20260723T140000
DTEND;TZID=America/Chicago:20260723T150000
LOCATION:320 Ovilla Rd.\, Red Oak\, TX 75154 US
SUMMARY:Red Oak Coalition Meeting
END:VEVENT
END:VCALENDAR
