BEGIN:VCALENDAR
VERSION:2.0
PRODID:-//impactcommunities.org//NONSGML kigkonsult.se iCalcreator 2.30.10/
 /
CALSCALE:GREGORIAN
METHOD:PUBLISH
UID:230d1aa9-85f0-4246-b0b0-fa642d19604f
X-WR-CALDESC:
X-WR-RELCALID:1f9f954f7e725be75bdd347a59ae793f
X-WR-TIMEZONE:America/Chicago
BEGIN:VTIMEZONE
TZID:America/Chicago
BEGIN:STANDARD
TZNAME:CST
DTSTART:20251102T020000
TZOFFSETFROM:-0500
TZOFFSETTO:-0600
RDATE:20261101T020000
RDATE:20271107T020000
END:STANDARD
BEGIN:DAYLIGHT
TZNAME:CDT
DTSTART:20260308T020000
TZOFFSETFROM:-0600
TZOFFSETTO:-0500
RDATE:20270314T020000
END:DAYLIGHT
END:VTIMEZONE
BEGIN:VEVENT
UID:1b0a5387-5eae-4bcf-ad6e-b8e07922a49c
DTSTAMP:20260420T080806Z
DESCRIPTION:
DTSTART;TZID=America/Chicago:20260716T100000
DTEND;TZID=America/Chicago:20260716T113000
LOCATION:Corsicana and Navarro County Chamber of Commerce
SUMMARY:Navarro County Coalition Meeting
END:VEVENT
END:VCALENDAR
