BEGIN:VCALENDAR
VERSION:2.0
PRODID:-//impactcommunities.org//NONSGML kigkonsult.se iCalcreator 2.30.10/
 /
CALSCALE:GREGORIAN
METHOD:PUBLISH
UID:72a4436f-4dd0-494c-b90a-c0610128bd18
X-WR-CALDESC:Virtual only
X-WR-RELCALID:df97eb5ffda9c89ba1acf9c84069a700
X-WR-TIMEZONE:America/Chicago
BEGIN:VTIMEZONE
TZID:America/Chicago
BEGIN:STANDARD
TZNAME:CST
DTSTART:20251102T020000
TZOFFSETFROM:-0500
TZOFFSETTO:-0600
RDATE:20261101T020000
RDATE:20271107T020000
END:STANDARD
BEGIN:DAYLIGHT
TZNAME:CDT
DTSTART:20260308T020000
TZOFFSETFROM:-0600
TZOFFSETTO:-0500
RDATE:20270314T020000
END:DAYLIGHT
END:VTIMEZONE
BEGIN:VEVENT
UID:4a905eb3-7156-441d-8983-a10b9f28b291
DTSTAMP:20260420T063016Z
DESCRIPTION:Virtual only
DTSTART;TZID=America/Chicago:20260602T100000
DTEND;TZID=America/Chicago:20260602T110000
LOCATION:
SUMMARY:NE Ellis County Coalition Meeting
END:VEVENT
END:VCALENDAR
