BEGIN:VCALENDAR
VERSION:2.0
PRODID:-//impactcommunities.org//NONSGML kigkonsult.se iCalcreator 2.30.10/
 /
CALSCALE:GREGORIAN
METHOD:PUBLISH
UID:27cd472a-3785-4779-a0bf-72e5a847da85
X-WR-CALDESC:Hybrid
X-WR-RELCALID:23c4ab0a366dc3490079de3bfd996d51
X-WR-TIMEZONE:America/Chicago
BEGIN:VTIMEZONE
TZID:America/Chicago
BEGIN:STANDARD
TZNAME:CST
DTSTART:20251102T020000
TZOFFSETFROM:-0500
TZOFFSETTO:-0600
RDATE:20261101T020000
END:STANDARD
BEGIN:DAYLIGHT
TZNAME:CDT
DTSTART:20260308T020000
TZOFFSETFROM:-0600
TZOFFSETTO:-0500
RDATE:20270314T020000
END:DAYLIGHT
END:VTIMEZONE
BEGIN:VEVENT
UID:6599431b-5703-4d1c-8007-d5cbfc3ca083
DTSTAMP:20260420T031002Z
DESCRIPTION:Hybrid
DTSTART;TZID=America/Chicago:20260409T100000
DTEND;TZID=America/Chicago:20260409T110000
LOCATION:
SUMMARY:Dallas County Coalition Meeting
END:VEVENT
END:VCALENDAR
