BEGIN:VCALENDAR
VERSION:2.0
PRODID:-//impactcommunities.org//NONSGML kigkonsult.se iCalcreator 2.30.10/
 /
CALSCALE:GREGORIAN
METHOD:PUBLISH
UID:b7af1e2a-a334-4213-b23a-746f5e633f37
X-WR-CALDESC:Hybrid Meeting
X-WR-RELCALID:9e13f85ce7c0e59a79df2dfd55e0a832
X-WR-TIMEZONE:America/Chicago
BEGIN:VTIMEZONE
TZID:America/Chicago
BEGIN:STANDARD
TZNAME:CST
DTSTART:20251102T020000
TZOFFSETFROM:-0500
TZOFFSETTO:-0600
RDATE:20261101T020000
END:STANDARD
BEGIN:DAYLIGHT
TZNAME:CDT
DTSTART:20260308T020000
TZOFFSETFROM:-0600
TZOFFSETTO:-0500
RDATE:20270314T020000
END:DAYLIGHT
END:VTIMEZONE
BEGIN:VEVENT
UID:de9521c0-dd61-4339-a1aa-23d099dfcfd5
DTSTAMP:20260420T042533Z
DESCRIPTION:Hybrid Meeting
DTSTART;TZID=America/Chicago:20260326T140000
DTEND;TZID=America/Chicago:20260326T150000
LOCATION:320 Ovilla Rd.\, Red Oak\, TX 75154 US
SUMMARY:Red Oak Coalition Meeting
END:VEVENT
END:VCALENDAR
