BEGIN:VCALENDAR
VERSION:2.0
PRODID:-//impactcommunities.org//NONSGML kigkonsult.se iCalcreator 2.30.10/
 /
CALSCALE:GREGORIAN
METHOD:PUBLISH
UID:3520eb80-0f3a-44cb-874e-f5738b0790fa
X-WR-CALDESC:
X-WR-RELCALID:79249332f3dff294174e8576607fafb7
X-WR-TIMEZONE:America/Chicago
BEGIN:VTIMEZONE
TZID:America/Chicago
BEGIN:STANDARD
TZNAME:CST
DTSTART:20251102T020000
TZOFFSETFROM:-0500
TZOFFSETTO:-0600
RDATE:20261101T020000
END:STANDARD
BEGIN:DAYLIGHT
TZNAME:CDT
DTSTART:20260308T020000
TZOFFSETFROM:-0600
TZOFFSETTO:-0500
RDATE:20270314T020000
END:DAYLIGHT
END:VTIMEZONE
BEGIN:VEVENT
UID:0872973d-50f9-414b-a027-43255f9fba87
DTSTAMP:20260420T043637Z
DESCRIPTION:
DTSTART;TZID=America/Chicago:20260319T100000
DTEND;TZID=America/Chicago:20260319T113000
LOCATION:Corsicana and Navarro County Chamber of Commerce
SUMMARY:Navarro County Coalition Meeting
END:VEVENT
END:VCALENDAR
