BEGIN:VCALENDAR
VERSION:2.0
PRODID:-//impactcommunities.org//NONSGML kigkonsult.se iCalcreator 2.30.10/
 /
CALSCALE:GREGORIAN
METHOD:PUBLISH
UID:0805c75e-b74e-4a7b-9ff3-60416864398f
X-WR-CALDESC:Hybrid
X-WR-RELCALID:bb03af1fb240810299b4ef54d1b29417
X-WR-TIMEZONE:America/Chicago
BEGIN:VTIMEZONE
TZID:America/Chicago
BEGIN:STANDARD
TZNAME:CST
DTSTART:20251102T020000
TZOFFSETFROM:-0500
TZOFFSETTO:-0600
RDATE:20261101T020000
END:STANDARD
BEGIN:DAYLIGHT
TZNAME:CDT
DTSTART:20250309T020000
TZOFFSETFROM:-0600
TZOFFSETTO:-0500
RDATE:20260308T020000
RDATE:20270314T020000
END:DAYLIGHT
END:VTIMEZONE
BEGIN:VEVENT
UID:9ad31d62-ed88-4c8c-9086-912ca77c4b4d
DTSTAMP:20260420T062853Z
DESCRIPTION:Hybrid
DTSTART;TZID=America/Chicago:20260212T100000
DTEND;TZID=America/Chicago:20260212T110000
LOCATION:
SUMMARY:Dallas County Coalition Meeting
END:VEVENT
END:VCALENDAR
