BEGIN:VCALENDAR
VERSION:2.0
PRODID:-//impactcommunities.org//NONSGML kigkonsult.se iCalcreator 2.30.10/
 /
CALSCALE:GREGORIAN
METHOD:PUBLISH
UID:6e5a58a2-a9db-4ade-8c6d-be037fa44465
X-WR-CALDESC:
X-WR-RELCALID:abcb01347da9a497217b2b6d8760bd20
X-WR-TIMEZONE:America/Chicago
BEGIN:VTIMEZONE
TZID:America/Chicago
BEGIN:STANDARD
TZNAME:CST
DTSTART:20251102T020000
TZOFFSETFROM:-0500
TZOFFSETTO:-0600
RDATE:20261101T020000
END:STANDARD
BEGIN:DAYLIGHT
TZNAME:CDT
DTSTART:20250309T020000
TZOFFSETFROM:-0600
TZOFFSETTO:-0500
RDATE:20260308T020000
RDATE:20270314T020000
END:DAYLIGHT
END:VTIMEZONE
BEGIN:VEVENT
UID:1ff0c8e8-54dd-4bc7-b35a-a60e408fd985
DTSTAMP:20260420T090255Z
DESCRIPTION:
DTSTART;TZID=America/Chicago:20251218T100000
DTEND;TZID=America/Chicago:20251218T113000
LOCATION:Corsicana and Navarro County Chamber of Commerce
SUMMARY:Navarro County Coalition Meeting
END:VEVENT
END:VCALENDAR
