BEGIN:VCALENDAR
VERSION:2.0
PRODID:-//impactcommunities.org//NONSGML kigkonsult.se iCalcreator 2.30.10/
 /
CALSCALE:GREGORIAN
METHOD:PUBLISH
UID:dccecdb4-37f3-4e20-a224-9afcc570a269
X-WR-CALDESC:Virtual only
X-WR-RELCALID:f3af1a51e41518d41c2d37e93366fead
X-WR-TIMEZONE:America/Chicago
BEGIN:VTIMEZONE
TZID:America/Chicago
BEGIN:STANDARD
TZNAME:CST
DTSTART:20251102T020000
TZOFFSETFROM:-0500
TZOFFSETTO:-0600
RDATE:20261101T020000
END:STANDARD
BEGIN:DAYLIGHT
TZNAME:CDT
DTSTART:20250309T020000
TZOFFSETFROM:-0600
TZOFFSETTO:-0500
RDATE:20260308T020000
RDATE:20270314T020000
END:DAYLIGHT
END:VTIMEZONE
BEGIN:VEVENT
UID:e0b034c7-e5a1-48dc-850a-af47721c19c7
DTSTAMP:20260420T085346Z
DESCRIPTION:Virtual only
DTSTART;TZID=America/Chicago:20251202T100000
DTEND;TZID=America/Chicago:20251202T110000
LOCATION:
SUMMARY:NE Ellis County Coalition Meeting
END:VEVENT
END:VCALENDAR
