BEGIN:VCALENDAR
VERSION:2.0
PRODID:-//impactcommunities.org//NONSGML kigkonsult.se iCalcreator 2.30.10/
 /
CALSCALE:GREGORIAN
METHOD:PUBLISH
UID:edd1eb2c-05c8-443e-b3c1-ccf5c17e0176
X-WR-CALDESC:Hybrid Meeting
X-WR-RELCALID:7c756b2cccb0d854c3496d2a7da0ae61
X-WR-TIMEZONE:America/Chicago
BEGIN:VTIMEZONE
TZID:America/Chicago
BEGIN:STANDARD
TZNAME:CST
DTSTART:20251102T020000
TZOFFSETFROM:-0500
TZOFFSETTO:-0600
RDATE:20261101T020000
END:STANDARD
BEGIN:DAYLIGHT
TZNAME:CDT
DTSTART:20250309T020000
TZOFFSETFROM:-0600
TZOFFSETTO:-0500
RDATE:20260308T020000
RDATE:20270314T020000
END:DAYLIGHT
END:VTIMEZONE
BEGIN:VEVENT
UID:6dcc9eef-667c-4a48-9f9b-95f668e2d974
DTSTAMP:20260420T102841Z
DESCRIPTION:Hybrid Meeting
DTSTART;TZID=America/Chicago:20251127T140000
DTEND;TZID=America/Chicago:20251127T150000
LOCATION:320 Ovilla Rd.\, Red Oak\, TX 75154 US
SUMMARY:Red Oak Coalition Meeting
END:VEVENT
END:VCALENDAR
