BEGIN:VCALENDAR
VERSION:2.0
PRODID:-//impactcommunities.org//NONSGML kigkonsult.se iCalcreator 2.30.10/
 /
CALSCALE:GREGORIAN
METHOD:PUBLISH
UID:09a0ea93-0afd-4666-8a81-77d6316a170c
X-WR-CALDESC:Hybrid
X-WR-RELCALID:13c307ab63ccdb58b407a67f401cee4a
X-WR-TIMEZONE:America/Chicago
BEGIN:VTIMEZONE
TZID:America/Chicago
BEGIN:STANDARD
TZNAME:CST
DTSTART:20251102T020000
TZOFFSETFROM:-0500
TZOFFSETTO:-0600
RDATE:20261101T020000
END:STANDARD
BEGIN:DAYLIGHT
TZNAME:CDT
DTSTART:20250309T020000
TZOFFSETFROM:-0600
TZOFFSETTO:-0500
RDATE:20260308T020000
RDATE:20270314T020000
END:DAYLIGHT
END:VTIMEZONE
BEGIN:VEVENT
UID:37050c01-7454-47eb-b9b2-5b531e99bdb4
DTSTAMP:20260420T102301Z
DESCRIPTION:Hybrid
DTSTART;TZID=America/Chicago:20251113T100000
DTEND;TZID=America/Chicago:20251113T110000
LOCATION:
SUMMARY:Dallas County Coalition Meeting
END:VEVENT
END:VCALENDAR
