BEGIN:VCALENDAR
VERSION:2.0
PRODID:-//impactcommunities.org//NONSGML kigkonsult.se iCalcreator 2.30.10/
 /
CALSCALE:GREGORIAN
METHOD:PUBLISH
UID:865dcc54-79eb-4d98-a2c0-d09f070e72fd
X-WR-CALDESC:Hybrid Meeting
X-WR-RELCALID:299379d4a61e8607bb00eb91955af37c
X-WR-TIMEZONE:America/Chicago
BEGIN:VTIMEZONE
TZID:America/Chicago
BEGIN:STANDARD
TZNAME:CST
DTSTART:20241103T020000
TZOFFSETFROM:-0500
TZOFFSETTO:-0600
RDATE:20251102T020000
RDATE:20261101T020000
END:STANDARD
BEGIN:DAYLIGHT
TZNAME:CDT
DTSTART:20250309T020000
TZOFFSETFROM:-0600
TZOFFSETTO:-0500
RDATE:20260308T020000
END:DAYLIGHT
END:VTIMEZONE
BEGIN:VEVENT
UID:b194efb5-9269-43c1-84ec-8a64b5d8ede7
DTSTAMP:20260420T150040Z
DESCRIPTION:Hybrid Meeting
DTSTART;TZID=America/Chicago:20250828T140000
DTEND;TZID=America/Chicago:20250828T150000
LOCATION:320 Ovilla Rd.\, Red Oak\, TX 75154 US
SUMMARY:Red Oak Coalition Meeting
END:VEVENT
END:VCALENDAR
