BEGIN:VCALENDAR
VERSION:2.0
PRODID:-//impactcommunities.org//NONSGML kigkonsult.se iCalcreator 2.30.10/
 /
CALSCALE:GREGORIAN
METHOD:PUBLISH
UID:62e454bf-5ad6-4831-8f0e-5085e2068d88
X-WR-CALDESC:Hybrid Meeting
X-WR-RELCALID:f4c7ca895be6c3a4c8a95d918b53a364
X-WR-TIMEZONE:America/Chicago
BEGIN:VTIMEZONE
TZID:America/Chicago
BEGIN:STANDARD
TZNAME:CST
DTSTART:20241103T020000
TZOFFSETFROM:-0500
TZOFFSETTO:-0600
RDATE:20251102T020000
RDATE:20261101T020000
END:STANDARD
BEGIN:DAYLIGHT
TZNAME:CDT
DTSTART:20250309T020000
TZOFFSETFROM:-0600
TZOFFSETTO:-0500
RDATE:20260308T020000
END:DAYLIGHT
END:VTIMEZONE
BEGIN:VEVENT
UID:d2bc8a6a-77b8-48a6-ac98-e1e68deec80a
DTSTAMP:20260420T182621Z
DESCRIPTION:Hybrid Meeting
DTSTART;TZID=America/Chicago:20250626T140000
DTEND;TZID=America/Chicago:20250626T150000
LOCATION:320 Ovilla Rd.\, Red Oak\, TX 75154 US
SUMMARY:Red Oak Coalition Meeting
END:VEVENT
END:VCALENDAR
