BEGIN:VCALENDAR
VERSION:2.0
PRODID:-//impactcommunities.org//NONSGML kigkonsult.se iCalcreator 2.30.10/
 /
CALSCALE:GREGORIAN
METHOD:PUBLISH
UID:316c8d7b-7784-4d3b-a518-7fae52cf23c4
X-WR-CALDESC:Hybrid
X-WR-RELCALID:346a10d86fafaa8dfe8fa1fe42e6f4c8
X-WR-TIMEZONE:America/Chicago
BEGIN:VTIMEZONE
TZID:America/Chicago
BEGIN:STANDARD
TZNAME:CST
DTSTART:20241103T020000
TZOFFSETFROM:-0500
TZOFFSETTO:-0600
RDATE:20251102T020000
RDATE:20261101T020000
END:STANDARD
BEGIN:DAYLIGHT
TZNAME:CDT
DTSTART:20250309T020000
TZOFFSETFROM:-0600
TZOFFSETTO:-0500
RDATE:20260308T020000
END:DAYLIGHT
END:VTIMEZONE
BEGIN:VEVENT
UID:f85c7d9d-4c13-485d-a11e-7b5378281d65
DTSTAMP:20260420T182437Z
DESCRIPTION:Hybrid
DTSTART;TZID=America/Chicago:20250612T100000
DTEND;TZID=America/Chicago:20250612T110000
LOCATION:
SUMMARY:Dallas County Coalition Meeting
END:VEVENT
END:VCALENDAR
