BEGIN:VCALENDAR
VERSION:2.0
PRODID:-//impactcommunities.org//NONSGML kigkonsult.se iCalcreator 2.30.10/
 /
CALSCALE:GREGORIAN
METHOD:PUBLISH
UID:6953dca9-9ac9-483b-817b-fb35a2e827af
X-WR-CALDESC:Hybrid Meeting
X-WR-RELCALID:28c89ecd560539b4f27f22258b999f04
X-WR-TIMEZONE:America/Chicago
BEGIN:VTIMEZONE
TZID:America/Chicago
BEGIN:STANDARD
TZNAME:CST
DTSTART:20241103T020000
TZOFFSETFROM:-0500
TZOFFSETTO:-0600
RDATE:20251102T020000
END:STANDARD
BEGIN:DAYLIGHT
TZNAME:CDT
DTSTART:20250309T020000
TZOFFSETFROM:-0600
TZOFFSETTO:-0500
RDATE:20260308T020000
END:DAYLIGHT
END:VTIMEZONE
BEGIN:VEVENT
UID:b8ae6689-edc5-49cb-983a-53fa033ede6f
DTSTAMP:20260420T214811Z
DESCRIPTION:Hybrid Meeting
DTSTART;TZID=America/Chicago:20250424T140000
DTEND;TZID=America/Chicago:20250424T150000
LOCATION:320 Ovilla Rd.\, Red Oak\, TX 75154 US
SUMMARY:Red Oak Coalition Meeting
END:VEVENT
END:VCALENDAR
