BEGIN:VCALENDAR
VERSION:2.0
PRODID:-//impactcommunities.org//NONSGML kigkonsult.se iCalcreator 2.30.10/
 /
CALSCALE:GREGORIAN
METHOD:PUBLISH
UID:b852140a-5a09-4b9b-a727-b40f8d9ce8a3
X-WR-CALDESC:Hybrid
X-WR-RELCALID:b4c3d8c4742f6e0bb025dfad64ce69c5
X-WR-TIMEZONE:America/Chicago
BEGIN:VTIMEZONE
TZID:America/Chicago
BEGIN:STANDARD
TZNAME:CST
DTSTART:20241103T020000
TZOFFSETFROM:-0500
TZOFFSETTO:-0600
RDATE:20251102T020000
END:STANDARD
BEGIN:DAYLIGHT
TZNAME:CDT
DTSTART:20250309T020000
TZOFFSETFROM:-0600
TZOFFSETTO:-0500
RDATE:20260308T020000
END:DAYLIGHT
END:VTIMEZONE
BEGIN:VEVENT
UID:a5eda03f-fb95-4d9d-bdb2-d4c5739a4e0d
DTSTAMP:20260420T215701Z
DESCRIPTION:Hybrid
DTSTART;TZID=America/Chicago:20250410T100000
DTEND;TZID=America/Chicago:20250410T110000
LOCATION:
SUMMARY:Dallas County Coalition Meeting
END:VEVENT
END:VCALENDAR
