BEGIN:VCALENDAR
VERSION:2.0
PRODID:-//impactcommunities.org//NONSGML kigkonsult.se iCalcreator 2.30.10/
 /
CALSCALE:GREGORIAN
METHOD:PUBLISH
UID:dca30c39-2f98-4201-9458-06bad3597963
X-WR-CALDESC:
X-WR-RELCALID:f4edbeb443a26bf077609cec022c3f93
X-WR-TIMEZONE:America/Chicago
BEGIN:VTIMEZONE
TZID:America/Chicago
BEGIN:STANDARD
TZNAME:CST
DTSTART:20241103T020000
TZOFFSETFROM:-0500
TZOFFSETTO:-0600
RDATE:20251102T020000
END:STANDARD
BEGIN:DAYLIGHT
TZNAME:CDT
DTSTART:20250309T020000
TZOFFSETFROM:-0600
TZOFFSETTO:-0500
RDATE:20260308T020000
END:DAYLIGHT
END:VTIMEZONE
BEGIN:VEVENT
UID:86c65760-3784-4a15-b19f-24a27aedd45e
DTSTAMP:20260420T232045Z
DESCRIPTION:
DTSTART;TZID=America/Chicago:20250320T100000
DTEND;TZID=America/Chicago:20250320T113000
LOCATION:Corsicana and Navarro County Chamber of Commerce
SUMMARY:Navarro County Coalition Meeting
END:VEVENT
END:VCALENDAR
