BEGIN:VCALENDAR
VERSION:2.0
PRODID:-//impactcommunities.org//NONSGML kigkonsult.se iCalcreator 2.30.10/
 /
CALSCALE:GREGORIAN
METHOD:PUBLISH
UID:69258e7a-03ba-497a-b478-4c85beda5da8
X-WR-CALDESC:Hybrid
X-WR-RELCALID:6190c64d131e6e6db46c41ec7f45f5a5
X-WR-TIMEZONE:America/Chicago
BEGIN:VTIMEZONE
TZID:America/Chicago
BEGIN:STANDARD
TZNAME:CST
DTSTART:20241103T020000
TZOFFSETFROM:-0500
TZOFFSETTO:-0600
RDATE:20251102T020000
END:STANDARD
BEGIN:DAYLIGHT
TZNAME:CDT
DTSTART:20250309T020000
TZOFFSETFROM:-0600
TZOFFSETTO:-0500
RDATE:20260308T020000
END:DAYLIGHT
END:VTIMEZONE
BEGIN:VEVENT
UID:d1f6946d-3324-4ab2-a491-3c9a16e44fdd
DTSTAMP:20260420T231718Z
DESCRIPTION:Hybrid
DTSTART;TZID=America/Chicago:20250313T100000
DTEND;TZID=America/Chicago:20250313T110000
LOCATION:
SUMMARY:Dallas County Coalition Meeting
END:VEVENT
END:VCALENDAR
