BEGIN:VCALENDAR
VERSION:2.0
PRODID:-//impactcommunities.org//NONSGML kigkonsult.se iCalcreator 2.30.10/
 /
CALSCALE:GREGORIAN
METHOD:PUBLISH
UID:fef72ffc-59c9-4d36-91a9-b930b484bb1a
X-WR-CALDESC:Virtual only
X-WR-RELCALID:624e28edc39c1bb57bce01f2e25bab80
X-WR-TIMEZONE:America/Chicago
BEGIN:VTIMEZONE
TZID:America/Chicago
BEGIN:STANDARD
TZNAME:CST
DTSTART:20241103T020000
TZOFFSETFROM:-0500
TZOFFSETTO:-0600
RDATE:20251102T020000
END:STANDARD
BEGIN:DAYLIGHT
TZNAME:CDT
DTSTART:20240310T020000
TZOFFSETFROM:-0600
TZOFFSETTO:-0500
RDATE:20250309T020000
RDATE:20260308T020000
END:DAYLIGHT
END:VTIMEZONE
BEGIN:VEVENT
UID:c8fb2cf5-88c0-4146-9d09-605fcc022bcd
DTSTAMP:20260421T060326Z
DESCRIPTION:Virtual only
DTSTART;TZID=America/Chicago:20250204T100000
DTEND;TZID=America/Chicago:20250204T110000
LOCATION:
SUMMARY:NE Ellis County Coalition Meeting
END:VEVENT
END:VCALENDAR
