BEGIN:VCALENDAR
VERSION:2.0
PRODID:-//impactcommunities.org//NONSGML kigkonsult.se iCalcreator 2.30.10/
 /
CALSCALE:GREGORIAN
METHOD:PUBLISH
UID:94b156a4-ae0b-4051-96bd-1d8da2cd448d
X-WR-CALDESC:Virtual only
X-WR-RELCALID:accfa951d7ff6d54d8729b50a87e6ae9
X-WR-TIMEZONE:America/Chicago
BEGIN:VTIMEZONE
TZID:America/Chicago
BEGIN:STANDARD
TZNAME:CST
DTSTART:20241103T020000
TZOFFSETFROM:-0500
TZOFFSETTO:-0600
RDATE:20251102T020000
END:STANDARD
BEGIN:DAYLIGHT
TZNAME:CDT
DTSTART:20240310T020000
TZOFFSETFROM:-0600
TZOFFSETTO:-0500
RDATE:20250309T020000
RDATE:20260308T020000
END:DAYLIGHT
END:VTIMEZONE
BEGIN:VEVENT
UID:79cd4442-a6c8-4548-a03f-c73f2531b8ac
DTSTAMP:20260421T074414Z
DESCRIPTION:Virtual only
DTSTART;TZID=America/Chicago:20250107T100000
DTEND;TZID=America/Chicago:20250107T110000
LOCATION:
SUMMARY:NE Ellis County Coalition Meeting
END:VEVENT
END:VCALENDAR
