BEGIN:VCALENDAR
VERSION:2.0
PRODID:-//impactcommunities.org//NONSGML kigkonsult.se iCalcreator 2.30.10/
 /
CALSCALE:GREGORIAN
METHOD:PUBLISH
UID:11da5788-5245-432c-9201-8bb58ef571a8
X-WR-CALDESC:Virtual only
X-WR-RELCALID:122630d9bd54053bc56b21a7e0f5b7f5
X-WR-TIMEZONE:America/Chicago
BEGIN:VTIMEZONE
TZID:America/Chicago
BEGIN:STANDARD
TZNAME:CST
DTSTART:20241103T020000
TZOFFSETFROM:-0500
TZOFFSETTO:-0600
RDATE:20251102T020000
END:STANDARD
BEGIN:DAYLIGHT
TZNAME:CDT
DTSTART:20240310T020000
TZOFFSETFROM:-0600
TZOFFSETTO:-0500
RDATE:20250309T020000
RDATE:20260308T020000
END:DAYLIGHT
END:VTIMEZONE
BEGIN:VEVENT
UID:50717fea-bcf7-4625-9aa8-c5b4720641af
DTSTAMP:20260421T101716Z
DESCRIPTION:Virtual only
DTSTART;TZID=America/Chicago:20241105T100000
DTEND;TZID=America/Chicago:20241105T110000
LOCATION:
SUMMARY:NE Ellis County Coalition Meeting
END:VEVENT
END:VCALENDAR
