BEGIN:VCALENDAR
VERSION:2.0
PRODID:-//impactcommunities.org//NONSGML kigkonsult.se iCalcreator 2.30.10/
 /
CALSCALE:GREGORIAN
METHOD:PUBLISH
UID:0ee35eb1-3799-4732-a0ed-84e4a94a5788
X-WR-CALDESC:Hybrid Meeting
X-WR-RELCALID:e303f11bf3c8f78b312651f390125834
X-WR-TIMEZONE:America/Chicago
BEGIN:VTIMEZONE
TZID:America/Chicago
BEGIN:STANDARD
TZNAME:CST
DTSTART:20231105T020000
TZOFFSETFROM:-0500
TZOFFSETTO:-0600
RDATE:20241103T020000
RDATE:20251102T020000
END:STANDARD
BEGIN:DAYLIGHT
TZNAME:CDT
DTSTART:20240310T020000
TZOFFSETFROM:-0600
TZOFFSETTO:-0500
RDATE:20250309T020000
END:DAYLIGHT
END:VTIMEZONE
BEGIN:VEVENT
UID:b57a0360-c717-4803-9eee-55bec315111f
DTSTAMP:20260421T151753Z
DESCRIPTION:Hybrid Meeting
DTSTART;TZID=America/Chicago:20240822T140000
DTEND;TZID=America/Chicago:20240822T150000
LOCATION:320 Ovilla Rd.\, Red Oak\, TX 75154 US
SUMMARY:Red Oak Coalition Meeting
END:VEVENT
END:VCALENDAR
