BEGIN:VCALENDAR
VERSION:2.0
PRODID:-//impactcommunities.org//NONSGML kigkonsult.se iCalcreator 2.30.10/
 /
CALSCALE:GREGORIAN
METHOD:PUBLISH
UID:96b97300-5a0f-42be-8025-204a1bc239dc
X-WR-CALDESC:Hybrid Meeting
X-WR-RELCALID:e506348874a8a12497461f26df4e1ef4
X-WR-TIMEZONE:America/Chicago
BEGIN:VTIMEZONE
TZID:America/Chicago
BEGIN:STANDARD
TZNAME:CST
DTSTART:20231105T020000
TZOFFSETFROM:-0500
TZOFFSETTO:-0600
RDATE:20241103T020000
RDATE:20251102T020000
END:STANDARD
BEGIN:DAYLIGHT
TZNAME:CDT
DTSTART:20240310T020000
TZOFFSETFROM:-0600
TZOFFSETTO:-0500
RDATE:20250309T020000
END:DAYLIGHT
END:VTIMEZONE
BEGIN:VEVENT
UID:839db429-fe0e-4af3-8f72-292c530b05b8
DTSTAMP:20260421T163000Z
DESCRIPTION:Hybrid Meeting
DTSTART;TZID=America/Chicago:20240725T140000
DTEND;TZID=America/Chicago:20240725T150000
LOCATION:320 Ovilla Rd.\, Red Oak\, TX 75154 US
SUMMARY:Red Oak Coalition Meeting
END:VEVENT
END:VCALENDAR
