BEGIN:VCALENDAR
VERSION:2.0
PRODID:-//impactcommunities.org//NONSGML kigkonsult.se iCalcreator 2.30.10/
 /
CALSCALE:GREGORIAN
METHOD:PUBLISH
UID:fe855ffa-a84a-4a47-b176-9da8b30fe42e
X-WR-CALDESC:Virtual only
X-WR-RELCALID:c592adb124cc4715576dfdea2dc368dc
X-WR-TIMEZONE:America/Chicago
BEGIN:VTIMEZONE
TZID:America/Chicago
BEGIN:STANDARD
TZNAME:CST
DTSTART:20231105T020000
TZOFFSETFROM:-0500
TZOFFSETTO:-0600
RDATE:20241103T020000
RDATE:20251102T020000
END:STANDARD
BEGIN:DAYLIGHT
TZNAME:CDT
DTSTART:20240310T020000
TZOFFSETFROM:-0600
TZOFFSETTO:-0500
RDATE:20250309T020000
END:DAYLIGHT
END:VTIMEZONE
BEGIN:VEVENT
UID:44e8924a-aa7a-433d-a57e-240d859e14bb
DTSTAMP:20260421T165445Z
DESCRIPTION:Virtual only
DTSTART;TZID=America/Chicago:20240702T100000
DTEND;TZID=America/Chicago:20240702T110000
LOCATION:
SUMMARY:NE Ellis County Coalition Meeting
END:VEVENT
END:VCALENDAR
