BEGIN:VCALENDAR
VERSION:2.0
PRODID:-//impactcommunities.org//NONSGML kigkonsult.se iCalcreator 2.30.10/
 /
CALSCALE:GREGORIAN
METHOD:PUBLISH
UID:32138656-62e6-4a19-ae4d-c5c759e3c486
X-WR-CALDESC:
X-WR-RELCALID:18bd0cf366c35a4c64cb5b5b406afd6b
X-WR-TIMEZONE:America/Chicago
BEGIN:VTIMEZONE
TZID:America/Chicago
BEGIN:STANDARD
TZNAME:CST
DTSTART:20231105T020000
TZOFFSETFROM:-0500
TZOFFSETTO:-0600
RDATE:20241103T020000
RDATE:20251102T020000
END:STANDARD
BEGIN:DAYLIGHT
TZNAME:CDT
DTSTART:20240310T020000
TZOFFSETFROM:-0600
TZOFFSETTO:-0500
RDATE:20250309T020000
END:DAYLIGHT
END:VTIMEZONE
BEGIN:VEVENT
UID:b4b70028-cc36-4972-80df-81d89389d7b5
DTSTAMP:20260421T183444Z
DESCRIPTION:
DTSTART;TZID=America/Chicago:20240626T140000
DTEND;TZID=America/Chicago:20240626T150000
LOCATION:Red Oak Library
SUMMARY:Adventure Begins! Bracelet-making
END:VEVENT
END:VCALENDAR
