BEGIN:VCALENDAR
VERSION:2.0
PRODID:-//impactcommunities.org//NONSGML kigkonsult.se iCalcreator 2.30.10/
 /
CALSCALE:GREGORIAN
METHOD:PUBLISH
UID:e3bc42d0-7037-4770-9e05-9347174a8f13
X-WR-CALDESC:
X-WR-RELCALID:13ff0dd0875ef7ae839c379a4f37bcb5
X-WR-TIMEZONE:America/Chicago
BEGIN:VTIMEZONE
TZID:America/Chicago
BEGIN:STANDARD
TZNAME:CST
DTSTART:20231105T020000
TZOFFSETFROM:-0500
TZOFFSETTO:-0600
RDATE:20241103T020000
RDATE:20251102T020000
END:STANDARD
BEGIN:DAYLIGHT
TZNAME:CDT
DTSTART:20240310T020000
TZOFFSETFROM:-0600
TZOFFSETTO:-0500
RDATE:20250309T020000
END:DAYLIGHT
END:VTIMEZONE
BEGIN:VEVENT
UID:2c7dca59-4eb5-4ea9-b9aa-8a5f8536bb13
DTSTAMP:20260421T181749Z
DESCRIPTION:
DTSTART;TZID=America/Chicago:20240617T080000
DTEND;TZID=America/Chicago:20240617T123000
LOCATION:Red Oak Middle School\, 154 Louise Ritter Blvd\, Red Oak\, TX 7515
 4 US
SUMMARY:Red Oak High School Summer Camp
END:VEVENT
END:VCALENDAR
