BEGIN:VCALENDAR
VERSION:2.0
PRODID:-//impactcommunities.org//NONSGML kigkonsult.se iCalcreator 2.30.10/
 /
CALSCALE:GREGORIAN
METHOD:PUBLISH
UID:dcce35e2-70d8-4aec-ad38-1efbce899191
X-WR-CALDESC:Hybrid
X-WR-RELCALID:047544f01814e1c58fb5b6534b3c98a3
X-WR-TIMEZONE:America/Chicago
BEGIN:VTIMEZONE
TZID:America/Chicago
BEGIN:STANDARD
TZNAME:CST
DTSTART:20231105T020000
TZOFFSETFROM:-0500
TZOFFSETTO:-0600
RDATE:20241103T020000
RDATE:20251102T020000
END:STANDARD
BEGIN:DAYLIGHT
TZNAME:CDT
DTSTART:20240310T020000
TZOFFSETFROM:-0600
TZOFFSETTO:-0500
RDATE:20250309T020000
END:DAYLIGHT
END:VTIMEZONE
BEGIN:VEVENT
UID:1435e9a5-5912-487f-bef5-d0c45de6821a
DTSTAMP:20260421T181856Z
DESCRIPTION:Hybrid
DTSTART;TZID=America/Chicago:20240613T100000
DTEND;TZID=America/Chicago:20240613T110000
LOCATION:
SUMMARY:Dallas County Coalition Meeting
END:VEVENT
END:VCALENDAR
