BEGIN:VCALENDAR
VERSION:2.0
PRODID:-//impactcommunities.org//NONSGML kigkonsult.se iCalcreator 2.30.10/
 /
CALSCALE:GREGORIAN
METHOD:PUBLISH
UID:ff09003f-8441-4996-8c8f-3f9eaa81a6a2
X-WR-CALDESC:
X-WR-RELCALID:f9ca1578731eff56f6f6a56135c25cce
X-WR-TIMEZONE:America/Chicago
BEGIN:VTIMEZONE
TZID:America/Chicago
BEGIN:STANDARD
TZNAME:CST
DTSTART:20231105T020000
TZOFFSETFROM:-0500
TZOFFSETTO:-0600
RDATE:20241103T020000
RDATE:20251102T020000
END:STANDARD
BEGIN:DAYLIGHT
TZNAME:CDT
DTSTART:20240310T020000
TZOFFSETFROM:-0600
TZOFFSETTO:-0500
RDATE:20250309T020000
END:DAYLIGHT
END:VTIMEZONE
BEGIN:VEVENT
UID:5b52dbf2-745d-4256-ac7c-d463e6b08194
DTSTAMP:20260421T181856Z
DESCRIPTION:
DTSTART;TZID=America/Chicago:20240611T160000
DTEND;TZID=America/Chicago:20240611T173000
LOCATION:Red Oak Library\, 101 Live Oak St.\, Red Oak\, TX 75154 US
SUMMARY:Arts and Crafts Making Bracelets
END:VEVENT
END:VCALENDAR
