BEGIN:VCALENDAR
VERSION:2.0
PRODID:-//impactcommunities.org//NONSGML kigkonsult.se iCalcreator 2.30.10/
 /
CALSCALE:GREGORIAN
METHOD:PUBLISH
UID:625a7c75-07c8-4b3f-aa12-39525c223d60
X-WR-CALDESC:
X-WR-RELCALID:455a1b7bb188f3480e5fdf5d602becac
X-WR-TIMEZONE:America/Chicago
BEGIN:VTIMEZONE
TZID:America/Chicago
BEGIN:STANDARD
TZNAME:CST
DTSTART:20231105T020000
TZOFFSETFROM:-0500
TZOFFSETTO:-0600
RDATE:20241103T020000
RDATE:20251102T020000
END:STANDARD
BEGIN:DAYLIGHT
TZNAME:CDT
DTSTART:20240310T020000
TZOFFSETFROM:-0600
TZOFFSETTO:-0500
RDATE:20250309T020000
END:DAYLIGHT
END:VTIMEZONE
BEGIN:VEVENT
UID:4595f8fc-c5a8-452d-8060-1667e7dcd749
DTSTAMP:20260421T182020Z
DESCRIPTION:
DTSTART;TZID=America/Chicago:20240610T080000
DTEND;TZID=America/Chicago:20240610T123000
LOCATION:Red Oak Middle School\, 154 Louise Ritter Blvd\, Red Oak\, TX 7515
 4 US
SUMMARY:Red Oak High School Summer Camp
END:VEVENT
END:VCALENDAR
