BEGIN:VCALENDAR
VERSION:2.0
PRODID:-//impactcommunities.org//NONSGML kigkonsult.se iCalcreator 2.30.10/
 /
CALSCALE:GREGORIAN
METHOD:PUBLISH
UID:f872b6a3-f44d-4d8b-b481-75a205482c66
X-WR-CALDESC:Virtual only
X-WR-RELCALID:80af9fd85a2aa8bff12d5ba9e0421701
X-WR-TIMEZONE:America/Chicago
BEGIN:VTIMEZONE
TZID:America/Chicago
BEGIN:STANDARD
TZNAME:CST
DTSTART:20231105T020000
TZOFFSETFROM:-0500
TZOFFSETTO:-0600
RDATE:20241103T020000
RDATE:20251102T020000
END:STANDARD
BEGIN:DAYLIGHT
TZNAME:CDT
DTSTART:20240310T020000
TZOFFSETFROM:-0600
TZOFFSETTO:-0500
RDATE:20250309T020000
END:DAYLIGHT
END:VTIMEZONE
BEGIN:VEVENT
UID:453a10a3-191d-4ee2-9bf6-bf4d2dd75195
DTSTAMP:20260421T181728Z
DESCRIPTION:Virtual only
DTSTART;TZID=America/Chicago:20240604T100000
DTEND;TZID=America/Chicago:20240604T110000
LOCATION:
SUMMARY:NE Ellis County Coalition Meeting
END:VEVENT
END:VCALENDAR
