BEGIN:VCALENDAR
VERSION:2.0
PRODID:-//impactcommunities.org//NONSGML kigkonsult.se iCalcreator 2.30.10/
 /
CALSCALE:GREGORIAN
METHOD:PUBLISH
UID:cf019fe7-add2-4b47-acb7-871fbd6e8e61
X-WR-CALDESC:
X-WR-RELCALID:25453ad235510ff1ce2eda39b28ea0b7
X-WR-TIMEZONE:America/Chicago
BEGIN:VTIMEZONE
TZID:America/Chicago
BEGIN:STANDARD
TZNAME:CST
DTSTART:20231105T020000
TZOFFSETFROM:-0500
TZOFFSETTO:-0600
RDATE:20241103T020000
RDATE:20251102T020000
END:STANDARD
BEGIN:DAYLIGHT
TZNAME:CDT
DTSTART:20240310T020000
TZOFFSETFROM:-0600
TZOFFSETTO:-0500
RDATE:20250309T020000
END:DAYLIGHT
END:VTIMEZONE
BEGIN:VEVENT
UID:2b1c8c67-34d3-4566-b3dc-96da7a767a32
DTSTAMP:20260421T183622Z
DESCRIPTION:
DTSTART;TZID=America/Chicago:20240603T080000
DTEND;TZID=America/Chicago:20240603T123000
LOCATION:Red Oak Middle School\, 154 Louise Ritter Blvd\, Red Oak\, TX 7515
 4 US
SUMMARY:Red Oak High School Summer Camp
END:VEVENT
END:VCALENDAR
