BEGIN:VCALENDAR
VERSION:2.0
PRODID:-//impactcommunities.org//NONSGML kigkonsult.se iCalcreator 2.30.10/
 /
CALSCALE:GREGORIAN
METHOD:PUBLISH
UID:e74094b9-1ecc-4abd-ad81-6a1aa4e119a1
X-WR-CALDESC:
X-WR-RELCALID:8c128ffa52caf591375227931f204764
X-WR-TIMEZONE:America/Chicago
BEGIN:VTIMEZONE
TZID:America/Chicago
BEGIN:STANDARD
TZNAME:CST
DTSTART:20231105T020000
TZOFFSETFROM:-0500
TZOFFSETTO:-0600
RDATE:20241103T020000
RDATE:20251102T020000
END:STANDARD
BEGIN:DAYLIGHT
TZNAME:CDT
DTSTART:20240310T020000
TZOFFSETFROM:-0600
TZOFFSETTO:-0500
RDATE:20250309T020000
END:DAYLIGHT
END:VTIMEZONE
BEGIN:VEVENT
UID:d0c3be0b-1516-4c1e-ad0b-c381b6ed2874
DTSTAMP:20260421T195230Z
DESCRIPTION:
DTSTART;TZID=America/Chicago:20240529T100000
DTEND;TZID=America/Chicago:20240529T110000
LOCATION:Legends Oaks Health Care
SUMMARY:Health & Wellness Event
END:VEVENT
END:VCALENDAR
