BEGIN:VCALENDAR
VERSION:2.0
PRODID:-//impactcommunities.org//NONSGML kigkonsult.se iCalcreator 2.30.10/
 /
CALSCALE:GREGORIAN
METHOD:PUBLISH
UID:06efea8b-daaf-4b49-87a7-4c3305583d9e
X-WR-CALDESC:
X-WR-RELCALID:3f06fd54d68666339f98d1d1c85f9509
X-WR-TIMEZONE:America/Chicago
BEGIN:VTIMEZONE
TZID:America/Chicago
BEGIN:STANDARD
TZNAME:CST
DTSTART:20231105T020000
TZOFFSETFROM:-0500
TZOFFSETTO:-0600
RDATE:20241103T020000
RDATE:20251102T020000
END:STANDARD
BEGIN:DAYLIGHT
TZNAME:CDT
DTSTART:20240310T020000
TZOFFSETFROM:-0600
TZOFFSETTO:-0500
RDATE:20250309T020000
END:DAYLIGHT
END:VTIMEZONE
BEGIN:VEVENT
UID:6a20b636-167a-47f1-bbe3-ea3339334ed1
DTSTAMP:20260421T195531Z
DESCRIPTION:
DTSTART;TZID=America/Chicago:20240523T090000
DTEND;TZID=America/Chicago:20240523T113000
LOCATION:Red Oak Senior Center
SUMMARY:Health & Wellness Event
END:VEVENT
END:VCALENDAR
