BEGIN:VCALENDAR
VERSION:2.0
PRODID:-//impactcommunities.org//NONSGML kigkonsult.se iCalcreator 2.30.10/
 /
CALSCALE:GREGORIAN
METHOD:PUBLISH
UID:36bd8d8c-2315-424b-a14f-a553f510474f
X-WR-CALDESC:
X-WR-RELCALID:670e2a9d603bc8b20937d6a32331c103
X-WR-TIMEZONE:America/Chicago
BEGIN:VTIMEZONE
TZID:America/Chicago
BEGIN:STANDARD
TZNAME:CST
DTSTART:20231105T020000
TZOFFSETFROM:-0500
TZOFFSETTO:-0600
RDATE:20241103T020000
RDATE:20251102T020000
END:STANDARD
BEGIN:DAYLIGHT
TZNAME:CDT
DTSTART:20240310T020000
TZOFFSETFROM:-0600
TZOFFSETTO:-0500
RDATE:20250309T020000
END:DAYLIGHT
END:VTIMEZONE
BEGIN:VEVENT
UID:1b1e00cc-d470-4eb0-9a8a-b655dc8d5b7e
DTSTAMP:20260421T194918Z
DESCRIPTION:
DTSTART;TZID=America/Chicago:20240516T163000
DTEND;TZID=America/Chicago:20240516T173000
LOCATION:Salvation Army Waxahachie
SUMMARY:After School Kids Arts & Crafts
END:VEVENT
END:VCALENDAR
