BEGIN:VCALENDAR
VERSION:2.0
PRODID:-//impactcommunities.org//NONSGML kigkonsult.se iCalcreator 2.30.10/
 /
CALSCALE:GREGORIAN
METHOD:PUBLISH
UID:a9806383-7161-4b1e-9ead-396125148f38
X-WR-CALDESC:
X-WR-RELCALID:0f2ce01480f82878fdb45bd1177cc14a
X-WR-TIMEZONE:America/Chicago
BEGIN:VTIMEZONE
TZID:America/Chicago
BEGIN:STANDARD
TZNAME:CST
DTSTART:20231105T020000
TZOFFSETFROM:-0500
TZOFFSETTO:-0600
RDATE:20241103T020000
RDATE:20251102T020000
END:STANDARD
BEGIN:DAYLIGHT
TZNAME:CDT
DTSTART:20240310T020000
TZOFFSETFROM:-0600
TZOFFSETTO:-0500
RDATE:20250309T020000
END:DAYLIGHT
END:VTIMEZONE
BEGIN:VEVENT
UID:8e419bf4-8a3c-458e-ba9b-cbcd1c205d7f
DTSTAMP:20260421T195045Z
DESCRIPTION:
DTSTART;TZID=America/Chicago:20240515T090000
DTEND;TZID=America/Chicago:20240515T130000
LOCATION:Waxahachie Civic Center
SUMMARY:Ellis County Job Fair
END:VEVENT
END:VCALENDAR
