BEGIN:VCALENDAR
VERSION:2.0
PRODID:-//impactcommunities.org//NONSGML kigkonsult.se iCalcreator 2.30.10/
 /
CALSCALE:GREGORIAN
METHOD:PUBLISH
UID:90c8425d-6e50-4d18-a232-9161ac5768ff
X-WR-CALDESC:
X-WR-RELCALID:d91bf117116c8c798b7f3c77bda52af1
X-WR-TIMEZONE:America/Chicago
BEGIN:VTIMEZONE
TZID:America/Chicago
BEGIN:STANDARD
TZNAME:CST
DTSTART:20231105T020000
TZOFFSETFROM:-0500
TZOFFSETTO:-0600
RDATE:20241103T020000
RDATE:20251102T020000
END:STANDARD
BEGIN:DAYLIGHT
TZNAME:CDT
DTSTART:20240310T020000
TZOFFSETFROM:-0600
TZOFFSETTO:-0500
RDATE:20250309T020000
END:DAYLIGHT
END:VTIMEZONE
BEGIN:VEVENT
UID:77958741-6af4-4261-bbfd-a0d7e037d302
DTSTAMP:20260421T195531Z
DESCRIPTION:
DTSTART;TZID=America/Chicago:20240515T150000
DTEND;TZID=America/Chicago:20240515T160000
LOCATION:Buffalo Creek Memory Care Waxahachie
SUMMARY:Arts & Crafts
END:VEVENT
END:VCALENDAR
