BEGIN:VCALENDAR
VERSION:2.0
PRODID:-//impactcommunities.org//NONSGML kigkonsult.se iCalcreator 2.30.10/
 /
CALSCALE:GREGORIAN
METHOD:PUBLISH
UID:98a4df66-40b7-4e08-96d8-b5d93fbfe961
X-WR-CALDESC:
X-WR-RELCALID:922750c300fe564e9c01c7ddcca8ba41
X-WR-TIMEZONE:America/Chicago
BEGIN:VTIMEZONE
TZID:America/Chicago
BEGIN:STANDARD
TZNAME:CST
DTSTART:20231105T020000
TZOFFSETFROM:-0500
TZOFFSETTO:-0600
RDATE:20241103T020000
RDATE:20251102T020000
END:STANDARD
BEGIN:DAYLIGHT
TZNAME:CDT
DTSTART:20240310T020000
TZOFFSETFROM:-0600
TZOFFSETTO:-0500
RDATE:20250309T020000
END:DAYLIGHT
END:VTIMEZONE
BEGIN:VEVENT
UID:5c23d967-0b37-441d-8f25-32ff2b3c48c4
DTSTAMP:20260421T195647Z
DESCRIPTION:
DTSTART;TZID=America/Chicago:20240515T100000
DTEND;TZID=America/Chicago:20240515T113000
LOCATION:Red Oak Library
SUMMARY:Arts and Crafts Stepping Stones Painting
END:VEVENT
END:VCALENDAR
