BEGIN:VCALENDAR
VERSION:2.0
PRODID:-//impactcommunities.org//NONSGML kigkonsult.se iCalcreator 2.30.10/
 /
CALSCALE:GREGORIAN
METHOD:PUBLISH
UID:56662cc5-75cb-4294-adc0-c7fc25f06c88
X-WR-CALDESC:
X-WR-RELCALID:a583ae4cbd9da9022417422771159f09
X-WR-TIMEZONE:America/Chicago
BEGIN:VTIMEZONE
TZID:America/Chicago
BEGIN:STANDARD
TZNAME:CST
DTSTART:20231105T020000
TZOFFSETFROM:-0500
TZOFFSETTO:-0600
RDATE:20241103T020000
RDATE:20251102T020000
END:STANDARD
BEGIN:DAYLIGHT
TZNAME:CDT
DTSTART:20240310T020000
TZOFFSETFROM:-0600
TZOFFSETTO:-0500
RDATE:20250309T020000
END:DAYLIGHT
END:VTIMEZONE
BEGIN:VEVENT
UID:96f2c231-7293-4f63-82a2-c6ef6a16d8b2
DTSTAMP:20260421T194629Z
DESCRIPTION:
DTSTART;TZID=America/Chicago:20240514T170000
DTEND;TZID=America/Chicago:20240514T190000
LOCATION:1001 Butcher Rd\, Waxahachie\, TX 75165 US
SUMMARY:Shackelford Elementary School Color Run
END:VEVENT
END:VCALENDAR
