BEGIN:VCALENDAR
VERSION:2.0
PRODID:-//impactcommunities.org//NONSGML kigkonsult.se iCalcreator 2.30.10/
 /
CALSCALE:GREGORIAN
METHOD:PUBLISH
UID:5e3599be-0936-4dcb-8175-dbcdd4b11dc4
X-WR-CALDESC:15% of all sales will benefit Impact Communities and programs 
 to help children and youth. Stop by between 11 a.m. and 9 p.m.
X-WR-RELCALID:12c8f853d2e608064284738e52ca8b95
X-WR-TIMEZONE:America/Chicago
BEGIN:VTIMEZONE
TZID:America/Chicago
BEGIN:STANDARD
TZNAME:CST
DTSTART:20231105T020000
TZOFFSETFROM:-0500
TZOFFSETTO:-0600
RDATE:20241103T020000
RDATE:20251102T020000
END:STANDARD
BEGIN:DAYLIGHT
TZNAME:CDT
DTSTART:20240310T020000
TZOFFSETFROM:-0600
TZOFFSETTO:-0500
RDATE:20250309T020000
END:DAYLIGHT
END:VTIMEZONE
BEGIN:VEVENT
UID:d4fad193-4dff-42fc-b7d3-7227d219cd72
DTSTAMP:20260421T195358Z
DESCRIPTION:15% of all sales will benefit Impact Communities and programs t
 o help children and youth. Stop by between 11 a.m. and 9 p.m.
DTSTART;TZID=America/Chicago:20240507T110000
DTEND;TZID=America/Chicago:20240507T210000
LOCATION:2001 Enterprise Parkway\, Waxahachie\, TX 75165 US
SUMMARY:Fish City Grill Fundraiser
END:VEVENT
END:VCALENDAR
