BEGIN:VCALENDAR
VERSION:2.0
PRODID:-//impactcommunities.org//NONSGML kigkonsult.se iCalcreator 2.30.10/
 /
CALSCALE:GREGORIAN
METHOD:PUBLISH
UID:f75527c2-b70e-4b6e-bcd3-f50e81571e02
X-WR-CALDESC:Hybrid
X-WR-RELCALID:127c807b0e365eca451f6a7d6af5ac1f
X-WR-TIMEZONE:America/Chicago
BEGIN:VTIMEZONE
TZID:America/Chicago
BEGIN:STANDARD
TZNAME:CST
DTSTART:20231105T020000
TZOFFSETFROM:-0500
TZOFFSETTO:-0600
RDATE:20241103T020000
END:STANDARD
BEGIN:DAYLIGHT
TZNAME:CDT
DTSTART:20240310T020000
TZOFFSETFROM:-0600
TZOFFSETTO:-0500
RDATE:20250309T020000
END:DAYLIGHT
END:VTIMEZONE
BEGIN:VEVENT
UID:ad793fc7-16fd-4109-bdab-e1ac444851aa
DTSTAMP:20260421T211101Z
DESCRIPTION:Hybrid
DTSTART;TZID=America/Chicago:20240411T100000
DTEND;TZID=America/Chicago:20240411T110000
LOCATION:
SUMMARY:Dallas County Coalition Meeting
END:VEVENT
END:VCALENDAR
